BEGIN:VCALENDAR
VERSION:2.0
PRODID:-//Ken Skaggs Performances - ECPv6.15.20//NONSGML v1.0//EN
CALSCALE:GREGORIAN
METHOD:PUBLISH
X-WR-CALNAME:Ken Skaggs Performances
X-ORIGINAL-URL:https://flat7.com
X-WR-CALDESC:Events for Ken Skaggs Performances
REFRESH-INTERVAL;VALUE=DURATION:PT1H
X-Robots-Tag:noindex
X-PUBLISHED-TTL:PT1H
BEGIN:VTIMEZONE
TZID:America/Phoenix
BEGIN:STANDARD
TZOFFSETFROM:-0700
TZOFFSETTO:-0700
TZNAME:MST
DTSTART:20250101T000000
END:STANDARD
END:VTIMEZONE
BEGIN:VEVENT
DTSTART;TZID=America/Phoenix:20260301T130000
DTEND;TZID=America/Phoenix:20260301T160000
DTSTAMP:20260423T110917
CREATED:20260215T235505Z
LAST-MODIFIED:20260215T235505Z
UID:863-1772370000-1772380800@flat7.com
SUMMARY:Dusty Ramblers Project
DESCRIPTION:
URL:https://flat7.com/event/dusty-ramblers-project-7/
LOCATION:Pour Decisions Patio & Kitchen\, 4209 N Craftsman Ct\, Scottsdale\, AZ\, 85251\, United States
END:VEVENT
BEGIN:VEVENT
DTSTART;TZID=America/Phoenix:20260306T203000
DTEND;TZID=America/Phoenix:20260307T003000
DTSTAMP:20260423T110917
CREATED:20260104T212804Z
LAST-MODIFIED:20260104T213012Z
UID:814-1772829000-1772843400@flat7.com
SUMMARY:Christian Warren
DESCRIPTION:
URL:https://flat7.com/event/christian-warren-4/
LOCATION:Brookside II\, 15170 W. Bell Rd\, Suite 115\, Surprise\, AZ\, 85374\, United States
END:VEVENT
BEGIN:VEVENT
DTSTART;TZID=America/Phoenix:20260307T203000
DTEND;TZID=America/Phoenix:20260308T003000
DTSTAMP:20260423T110917
CREATED:20260104T212850Z
LAST-MODIFIED:20260104T212850Z
UID:818-1772915400-1772929800@flat7.com
SUMMARY:Christian Warren
DESCRIPTION:
URL:https://flat7.com/event/christian-warren-5/
LOCATION:Brookside II\, 15170 W. Bell Rd\, Suite 115\, Surprise\, AZ\, 85374\, United States
END:VEVENT
BEGIN:VEVENT
DTSTART;TZID=America/Phoenix:20260308T130000
DTEND;TZID=America/Phoenix:20260308T160000
DTSTAMP:20260423T110917
CREATED:20260215T235613Z
LAST-MODIFIED:20260215T235613Z
UID:867-1772974800-1772985600@flat7.com
SUMMARY:Dusty Ramblers Project
DESCRIPTION:
URL:https://flat7.com/event/dusty-ramblers-project-8/
LOCATION:Pour Decisions Patio & Kitchen\, 4209 N Craftsman Ct\, Scottsdale\, AZ\, 85251\, United States
END:VEVENT
BEGIN:VEVENT
DTSTART;TZID=America/Phoenix:20260313T190000
DTEND;TZID=America/Phoenix:20260313T210000
DTSTAMP:20260423T110917
CREATED:20250826T222453Z
LAST-MODIFIED:20250826T222453Z
UID:586-1773428400-1773435600@flat7.com
SUMMARY:Silver Star Band
DESCRIPTION:
URL:https://flat7.com/event/silver-star-band-5/
LOCATION:Silver Star Theater\, 5247 E. Brown Rd\, Mesa\, AZ\, 85205\, United States
END:VEVENT
BEGIN:VEVENT
DTSTART;TZID=America/Phoenix:20260314T193000
DTEND;TZID=America/Phoenix:20260314T223000
DTSTAMP:20260423T110917
CREATED:20260104T213258Z
LAST-MODIFIED:20260104T213258Z
UID:822-1773516600-1773527400@flat7.com
SUMMARY:The Dusty Ramblers Project
DESCRIPTION:
URL:https://flat7.com/event/the-dusty-ramblers-project-12/
LOCATION:Belle’s Nashville Kitchen\, 7212 E Main St\, Scottsdale\, AZ\, 85251\, United States
END:VEVENT
BEGIN:VEVENT
DTSTART;TZID=America/Phoenix:20260315T130000
DTEND;TZID=America/Phoenix:20260315T160000
DTSTAMP:20260423T110917
CREATED:20260215T235746Z
LAST-MODIFIED:20260215T235746Z
UID:871-1773579600-1773590400@flat7.com
SUMMARY:Dusty Ramblers Project
DESCRIPTION:
URL:https://flat7.com/event/dusty-ramblers-project-9/
LOCATION:Pour Decisions Patio & Kitchen\, 4209 N Craftsman Ct\, Scottsdale\, AZ\, 85251\, United States
END:VEVENT
BEGIN:VEVENT
DTSTART;TZID=America/Phoenix:20260317T180000
DTEND;TZID=America/Phoenix:20260317T200000
DTSTAMP:20260423T110917
CREATED:20251008T200549Z
LAST-MODIFIED:20260310T160817Z
UID:685-1773770400-1773777600@flat7.com
SUMMARY:Mark Lucas & The Rhythm Cats
DESCRIPTION:
URL:https://flat7.com/event/mark-lucas-band-5/
LOCATION:Apache Wells Country Club\, 5601 E Hermosa Vista Drive\, Mesa\, AZ\, 85215\, United States
END:VEVENT
BEGIN:VEVENT
DTSTART;TZID=America/Phoenix:20260320T203000
DTEND;TZID=America/Phoenix:20260321T003000
DTSTAMP:20260423T110917
CREATED:20250826T231901Z
LAST-MODIFIED:20260104T214050Z
UID:604-1774038600-1774053000@flat7.com
SUMMARY:Rick Lenzi & Tenneessee Whiskey
DESCRIPTION:
URL:https://flat7.com/event/rick-lenzi-tenneessee-whiskey-2/
LOCATION:The Stillery – Chandler\, 130 S Arizona Avenue\, Chandler\, AZ\, 85225\, United States
END:VEVENT
BEGIN:VEVENT
DTSTART;TZID=America/Phoenix:20260321T203000
DTEND;TZID=America/Phoenix:20260322T003000
DTSTAMP:20260423T110917
CREATED:20250826T231749Z
LAST-MODIFIED:20260104T214139Z
UID:599-1774125000-1774139400@flat7.com
SUMMARY:Rick Lenzi & Tenneessee Whiskey
DESCRIPTION:
URL:https://flat7.com/event/rick-lenzi-tenneessee-whiskey/
LOCATION:The Stillery – Chandler\, 130 S Arizona Avenue\, Chandler\, AZ\, 85225\, United States
END:VEVENT
BEGIN:VEVENT
DTSTART;TZID=America/Phoenix:20260322T130000
DTEND;TZID=America/Phoenix:20260322T160000
DTSTAMP:20260423T110917
CREATED:20260215T235915Z
LAST-MODIFIED:20260215T235915Z
UID:875-1774184400-1774195200@flat7.com
SUMMARY:Dusty Ramblers Project
DESCRIPTION:
URL:https://flat7.com/event/dusty-ramblers-project-10/
LOCATION:Pour Decisions Patio & Kitchen\, 4209 N Craftsman Ct\, Scottsdale\, AZ\, 85251\, United States
END:VEVENT
BEGIN:VEVENT
DTSTART;TZID=America/Phoenix:20260322T190000
DTEND;TZID=America/Phoenix:20260322T210000
DTSTAMP:20260423T110917
CREATED:20250826T222553Z
LAST-MODIFIED:20250826T222553Z
UID:590-1774206000-1774213200@flat7.com
SUMMARY:Silver Star Band
DESCRIPTION:
URL:https://flat7.com/event/silver-star-band-6/
LOCATION:Silver Star Theater\, 5247 E. Brown Rd\, Mesa\, AZ\, 85205\, United States
END:VEVENT
BEGIN:VEVENT
DTSTART;TZID=America/Phoenix:20260329T130000
DTEND;TZID=America/Phoenix:20260329T160000
DTSTAMP:20260423T110917
CREATED:20260216T000042Z
LAST-MODIFIED:20260216T000042Z
UID:879-1774789200-1774800000@flat7.com
SUMMARY:Dusty Ramblers Project
DESCRIPTION:
URL:https://flat7.com/event/dusty-ramblers-project-11/
LOCATION:Pour Decisions Patio & Kitchen\, 4209 N Craftsman Ct\, Scottsdale\, AZ\, 85251\, United States
END:VEVENT
END:VCALENDAR