BEGIN:VCALENDAR
VERSION:2.0
PRODID:-//Ken Skaggs Performances - ECPv6.15.20//NONSGML v1.0//EN
CALSCALE:GREGORIAN
METHOD:PUBLISH
X-WR-CALNAME:Ken Skaggs Performances
X-ORIGINAL-URL:https://flat7.com
X-WR-CALDESC:Events for Ken Skaggs Performances
REFRESH-INTERVAL;VALUE=DURATION:PT1H
X-Robots-Tag:noindex
X-PUBLISHED-TTL:PT1H
BEGIN:VTIMEZONE
TZID:America/Phoenix
BEGIN:STANDARD
TZOFFSETFROM:-0700
TZOFFSETTO:-0700
TZNAME:MST
DTSTART:20240101T000000
END:STANDARD
END:VTIMEZONE
BEGIN:VEVENT
DTSTART;TZID=America/Phoenix:20250704T180000
DTEND;TZID=America/Phoenix:20250704T210000
DTSTAMP:20260423T234028
CREATED:20250701T183909Z
LAST-MODIFIED:20250701T183909Z
UID:423-1751652000-1751662800@flat7.com
SUMMARY:The Dusty Ramblers Project
DESCRIPTION:
URL:https://flat7.com/event/the-dusty-ramblers-project-2/
LOCATION:Andaz Scottsdale Resort & Bungalows\, 6114 N Scottsdale Rd\, Scottsdale\, AZ\, 85253\, United States
END:VEVENT
BEGIN:VEVENT
DTSTART;TZID=America/Phoenix:20250706T180000
DTEND;TZID=America/Phoenix:20250706T210000
DTSTAMP:20260423T234028
CREATED:20250701T190330Z
LAST-MODIFIED:20250701T190330Z
UID:427-1751824800-1751835600@flat7.com
SUMMARY:The Dusty Ramblers Project
DESCRIPTION:
URL:https://flat7.com/event/the-dusty-ramblers-project-3/
LOCATION:The Back Door\, 7320 Scottsdale Mall\, Scottsdale\, AZ\, 85251\, United States
END:VEVENT
BEGIN:VEVENT
DTSTART;TZID=America/Phoenix:20250711T170000
DTEND;TZID=America/Phoenix:20250711T210000
DTSTAMP:20260423T234028
CREATED:20250617T173107Z
LAST-MODIFIED:20250617T173107Z
UID:397-1752253200-1752267600@flat7.com
SUMMARY:Pam Loe & Hipshot
DESCRIPTION:
URL:https://flat7.com/event/pam-loe-hipshot-7/
LOCATION:Rancho Bar 7\, 111 E Wickenburg Way\, Wickenburg\, AZ\, 85390\, United States
END:VEVENT
BEGIN:VEVENT
DTSTART;TZID=America/Phoenix:20250712T170000
DTEND;TZID=America/Phoenix:20250712T210000
DTSTAMP:20260423T234028
CREATED:20250617T173201Z
LAST-MODIFIED:20250617T173201Z
UID:401-1752339600-1752354000@flat7.com
SUMMARY:Pam Loe & Hipshot
DESCRIPTION:
URL:https://flat7.com/event/pam-loe-hipshot-8/
LOCATION:Rancho Bar 7\, 111 E Wickenburg Way\, Wickenburg\, AZ\, 85390\, United States
END:VEVENT
BEGIN:VEVENT
DTSTART;TZID=America/Phoenix:20250713T180000
DTEND;TZID=America/Phoenix:20250713T210000
DTSTAMP:20260423T234028
CREATED:20250701T190424Z
LAST-MODIFIED:20250701T190424Z
UID:431-1752429600-1752440400@flat7.com
SUMMARY:The Dusty Ramblers Project
DESCRIPTION:
URL:https://flat7.com/event/the-dusty-ramblers-project-4/
LOCATION:The Back Door\, 7320 Scottsdale Mall\, Scottsdale\, AZ\, 85251\, United States
END:VEVENT
BEGIN:VEVENT
DTSTART;TZID=America/Phoenix:20250716T190000
DTEND;TZID=America/Phoenix:20250716T210000
DTSTAMP:20260423T234028
CREATED:20250715T001558Z
LAST-MODIFIED:20250715T001558Z
UID:441-1752692400-1752699600@flat7.com
SUMMARY:Chad Watson & Pam Loe
DESCRIPTION:
URL:https://flat7.com/event/chad-watson-pam-loe/
LOCATION:Black Mountain Cafe & Lounge\, 7211 E Ho Rd\, Carefree\, AZ\, 85377\, United States
END:VEVENT
BEGIN:VEVENT
DTSTART;TZID=America/Phoenix:20250718T200000
DTEND;TZID=America/Phoenix:20250718T220000
DTSTAMP:20260423T234028
CREATED:20250701T010520Z
LAST-MODIFIED:20250701T010520Z
UID:418-1752868800-1752876000@flat7.com
SUMMARY:Dina Preston Band - Private Show
DESCRIPTION:
URL:https://flat7.com/event/dina-preston-band-private-show-2/
LOCATION:AZ
END:VEVENT
BEGIN:VEVENT
DTSTART;TZID=America/Phoenix:20250720T180000
DTEND;TZID=America/Phoenix:20250720T210000
DTSTAMP:20260423T234028
CREATED:20250701T190517Z
LAST-MODIFIED:20250701T190517Z
UID:435-1753034400-1753045200@flat7.com
SUMMARY:The Dusty Ramblers Project
DESCRIPTION:
URL:https://flat7.com/event/the-dusty-ramblers-project-5/
LOCATION:The Back Door\, 7320 Scottsdale Mall\, Scottsdale\, AZ\, 85251\, United States
END:VEVENT
END:VCALENDAR