BEGIN:VCALENDAR
VERSION:2.0
PRODID:-//Ken Skaggs Performances - ECPv6.15.20//NONSGML v1.0//EN
CALSCALE:GREGORIAN
METHOD:PUBLISH
X-WR-CALNAME:Ken Skaggs Performances
X-ORIGINAL-URL:https://flat7.com
X-WR-CALDESC:Events for Ken Skaggs Performances
REFRESH-INTERVAL;VALUE=DURATION:PT1H
X-Robots-Tag:noindex
X-PUBLISHED-TTL:PT1H
BEGIN:VTIMEZONE
TZID:America/Phoenix
BEGIN:STANDARD
TZOFFSETFROM:-0700
TZOFFSETTO:-0700
TZNAME:MST
DTSTART:20240101T000000
END:STANDARD
END:VTIMEZONE
BEGIN:VEVENT
DTSTART;TZID=America/Phoenix:20250601T180000
DTEND;TZID=America/Phoenix:20250601T210000
DTSTAMP:20260424T011014
CREATED:20250513T204757Z
LAST-MODIFIED:20250513T204757Z
UID:303-1748800800-1748811600@flat7.com
SUMMARY:Dusty Ramblers Project
DESCRIPTION:
URL:https://flat7.com/event/dusty-ramblers-project-2/
LOCATION:The Back Door\, 7320 Scottsdale Mall\, Scottsdale\, AZ\, 85251\, United States
END:VEVENT
BEGIN:VEVENT
DTSTART;TZID=America/Phoenix:20250606T170000
DTEND;TZID=America/Phoenix:20250606T210000
DTSTAMP:20260424T011014
CREATED:20250507T180522Z
LAST-MODIFIED:20250507T180522Z
UID:280-1749229200-1749243600@flat7.com
SUMMARY:Pam Loe & Hipshot
DESCRIPTION:
URL:https://flat7.com/event/pam-loe-hipshot-5/
LOCATION:Rancho Bar 7\, 111 E Wickenburg Way\, Wickenburg\, AZ\, 85390\, United States
END:VEVENT
BEGIN:VEVENT
DTSTART;TZID=America/Phoenix:20250607T170000
DTEND;TZID=America/Phoenix:20250607T210000
DTSTAMP:20260424T011014
CREATED:20250507T180601Z
LAST-MODIFIED:20250507T180601Z
UID:284-1749315600-1749330000@flat7.com
SUMMARY:Pam Loe & Hipshot
DESCRIPTION:
URL:https://flat7.com/event/pam-loe-hipshot-6/
LOCATION:Rancho Bar 7\, 111 E Wickenburg Way\, Wickenburg\, AZ\, 85390\, United States
END:VEVENT
BEGIN:VEVENT
DTSTART;TZID=America/Phoenix:20250608T180000
DTEND;TZID=America/Phoenix:20250608T210000
DTSTAMP:20260424T011014
CREATED:20250513T205015Z
LAST-MODIFIED:20250513T205046Z
UID:307-1749405600-1749416400@flat7.com
SUMMARY:Dusty Ramblers Project
DESCRIPTION:
URL:https://flat7.com/event/dusty-ramblers-project-3/
LOCATION:The Back Door\, 7320 Scottsdale Mall\, Scottsdale\, AZ\, 85251\, United States
END:VEVENT
BEGIN:VEVENT
DTSTART;TZID=America/Phoenix:20250613T143000
DTEND;TZID=America/Phoenix:20250613T173000
DTSTAMP:20260424T011014
CREATED:20250512T173329Z
LAST-MODIFIED:20250512T173329Z
UID:298-1749825000-1749835800@flat7.com
SUMMARY:Trio Rio - Private Show
DESCRIPTION:
URL:https://flat7.com/event/trio-rio-private-show/
LOCATION:AZ
END:VEVENT
BEGIN:VEVENT
DTSTART;TZID=America/Phoenix:20250615T180000
DTEND;TZID=America/Phoenix:20250615T210000
DTSTAMP:20260424T011014
CREATED:20250513T205134Z
LAST-MODIFIED:20250513T205134Z
UID:312-1750010400-1750021200@flat7.com
SUMMARY:Dusty Ramblers Project
DESCRIPTION:
URL:https://flat7.com/event/dusty-ramblers-project-4/
LOCATION:The Back Door\, 7320 Scottsdale Mall\, Scottsdale\, AZ\, 85251\, United States
END:VEVENT
BEGIN:VEVENT
DTSTART;TZID=America/Phoenix:20250616T160000
DTEND;TZID=America/Phoenix:20250616T190000
DTSTAMP:20260424T011014
CREATED:20250602T212719Z
LAST-MODIFIED:20250602T212837Z
UID:384-1750089600-1750100400@flat7.com
SUMMARY:Dusty Ramblers Project - Private Show
DESCRIPTION:
URL:https://flat7.com/event/the-dusty-ramblers-project-private-show/
LOCATION:AZ
END:VEVENT
BEGIN:VEVENT
DTSTART;TZID=America/Phoenix:20250618T190000
DTEND;TZID=America/Phoenix:20250618T210000
DTSTAMP:20260424T011014
CREATED:20250516T194924Z
LAST-MODIFIED:20250617T180447Z
UID:354-1750273200-1750280400@flat7.com
SUMMARY:Pam Loe & Chad Watson
DESCRIPTION:
URL:https://flat7.com/event/pam-loe-chad-watson/
LOCATION:Black Mountain Cafe & Lounge\, 7211 E Ho Rd\, Carefree\, AZ\, 85377\, United States
END:VEVENT
BEGIN:VEVENT
DTSTART;TZID=America/Phoenix:20250620T180000
DTEND;TZID=America/Phoenix:20250620T210000
DTSTAMP:20260424T011014
CREATED:20250529T181159Z
LAST-MODIFIED:20250602T212814Z
UID:380-1750442400-1750453200@flat7.com
SUMMARY:Dusty Ramblers Project
DESCRIPTION:
URL:https://flat7.com/event/the-dusty-ramblers-project/
LOCATION:Andaz Scottsdale Resort & Bungalows\, 6114 N Scottsdale Rd\, Scottsdale\, AZ\, 85253\, United States
END:VEVENT
BEGIN:VEVENT
DTSTART;TZID=America/Phoenix:20250621T193000
DTEND;TZID=America/Phoenix:20250621T223000
DTSTAMP:20260424T011014
CREATED:20250506T232123Z
LAST-MODIFIED:20250506T232123Z
UID:251-1750534200-1750545000@flat7.com
SUMMARY:Pam Loe & Hipshot
DESCRIPTION:
URL:https://flat7.com/event/pam-loe-hipshot-4/
LOCATION:Arizona Italian Social Club\, 7509 North 12th Street\, Phoenix\, AZ\, 85020\, United States
END:VEVENT
BEGIN:VEVENT
DTSTART;TZID=America/Phoenix:20250622T180000
DTEND;TZID=America/Phoenix:20250622T210000
DTSTAMP:20260424T011014
CREATED:20250513T205218Z
LAST-MODIFIED:20250513T205218Z
UID:316-1750615200-1750626000@flat7.com
SUMMARY:Dusty Ramblers Project
DESCRIPTION:
URL:https://flat7.com/event/dusty-ramblers-project-5/
LOCATION:The Back Door\, 7320 Scottsdale Mall\, Scottsdale\, AZ\, 85251\, United States
END:VEVENT
END:VCALENDAR