BEGIN:VCALENDAR
VERSION:2.0
PRODID:-//Ken Skaggs Performances - ECPv6.15.20//NONSGML v1.0//EN
CALSCALE:GREGORIAN
METHOD:PUBLISH
X-WR-CALNAME:Ken Skaggs Performances
X-ORIGINAL-URL:https://flat7.com
X-WR-CALDESC:Events for Ken Skaggs Performances
REFRESH-INTERVAL;VALUE=DURATION:PT1H
X-Robots-Tag:noindex
X-PUBLISHED-TTL:PT1H
BEGIN:VTIMEZONE
TZID:America/Phoenix
BEGIN:STANDARD
TZOFFSETFROM:-0700
TZOFFSETTO:-0700
TZNAME:MST
DTSTART:20240101T000000
END:STANDARD
END:VTIMEZONE
BEGIN:VEVENT
DTSTART;TZID=America/Phoenix:20250306T190000
DTEND;TZID=America/Phoenix:20250306T210000
DTSTAMP:20260424T055536
CREATED:20250303T221248Z
LAST-MODIFIED:20250304T221555Z
UID:99-1741287600-1741294800@flat7.com
SUMMARY:True Country Show
DESCRIPTION:If you love country music\, you will love this show! The Silver Star Band plays country hit after country hit\, from artists such as George Strait\, Garth Brooks\, and others\, all presented with that classic\, irresistible country sound. Join Ken and the Silver Star Band\, featuring fiddler extraordinaire Cathy King.
URL:https://flat7.com/event/true-country-show/
LOCATION:Silver Star Theater\, 5247 E. Brown Rd\, Mesa\, AZ\, 85205\, United States
END:VEVENT
END:VCALENDAR