BEGIN:VCALENDAR
VERSION:2.0
PRODID:-//Ken Skaggs Performances - ECPv6.15.20//NONSGML v1.0//EN
CALSCALE:GREGORIAN
METHOD:PUBLISH
X-WR-CALNAME:Ken Skaggs Performances
X-ORIGINAL-URL:https://flat7.com
X-WR-CALDESC:Events for Ken Skaggs Performances
REFRESH-INTERVAL;VALUE=DURATION:PT1H
X-Robots-Tag:noindex
X-PUBLISHED-TTL:PT1H
BEGIN:VTIMEZONE
TZID:America/Phoenix
BEGIN:STANDARD
TZOFFSETFROM:-0700
TZOFFSETTO:-0700
TZNAME:MST
DTSTART:20240101T000000
END:STANDARD
END:VTIMEZONE
BEGIN:VEVENT
DTSTART;TZID=America/Phoenix:20251014T180000
DTEND;TZID=America/Phoenix:20251014T210000
DTSTAMP:20260423T154112
CREATED:20250826T215345Z
LAST-MODIFIED:20250826T215345Z
UID:548-1760464800-1760475600@flat7.com
SUMMARY:Rehearsal
DESCRIPTION:
URL:https://flat7.com/event/rehearsal-3/
LOCATION:Silver Star Theater\, 5247 E. Brown Rd\, Mesa\, AZ\, 85205\, United States
END:VEVENT
BEGIN:VEVENT
DTSTART;TZID=America/Phoenix:20251012T183000
DTEND;TZID=America/Phoenix:20251012T220000
DTSTAMP:20260423T154112
CREATED:20250903T194422Z
LAST-MODIFIED:20250903T194422Z
UID:641-1760293800-1760306400@flat7.com
SUMMARY:Pam Loe & Hipshot
DESCRIPTION:
URL:https://flat7.com/event/pam-loe-hipshot-20/
LOCATION:J & T’s Copper Penny\, 10765 W Peoria Ave\, Sun City\, AZ\, 85351\, United States
END:VEVENT
BEGIN:VEVENT
DTSTART;TZID=America/Phoenix:20251011T170000
DTEND;TZID=America/Phoenix:20251011T210000
DTSTAMP:20260423T154112
CREATED:20250803T201739Z
LAST-MODIFIED:20250803T201739Z
UID:480-1760202000-1760216400@flat7.com
SUMMARY:Pam Loe & Hipshot
DESCRIPTION:
URL:https://flat7.com/event/pam-loe-hipshot-13/
LOCATION:Rancho Bar 7\, 111 E Wickenburg Way\, Wickenburg\, AZ\, 85390\, United States
END:VEVENT
BEGIN:VEVENT
DTSTART;TZID=America/Phoenix:20251010T170000
DTEND;TZID=America/Phoenix:20251010T210000
DTSTAMP:20260423T154112
CREATED:20250803T201656Z
LAST-MODIFIED:20250803T201656Z
UID:476-1760115600-1760130000@flat7.com
SUMMARY:Pam Loe & Hipshot
DESCRIPTION:
URL:https://flat7.com/event/pam-loe-hipshot-12/
LOCATION:Rancho Bar 7\, 111 E Wickenburg Way\, Wickenburg\, AZ\, 85390\, United States
END:VEVENT
BEGIN:VEVENT
DTSTART;TZID=America/Phoenix:20251007T180000
DTEND;TZID=America/Phoenix:20251007T210000
DTSTAMP:20260423T154112
CREATED:20250826T215248Z
LAST-MODIFIED:20250826T215248Z
UID:544-1759860000-1759870800@flat7.com
SUMMARY:Rehearsal
DESCRIPTION:
URL:https://flat7.com/event/rehearsal-2/
LOCATION:Silver Star Theater\, 5247 E. Brown Rd\, Mesa\, AZ\, 85205\, United States
END:VEVENT
BEGIN:VEVENT
DTSTART;VALUE=DATE:20251001
DTEND;VALUE=DATE:20251006
DTSTAMP:20260423T154112
CREATED:20250826T233527Z
LAST-MODIFIED:20250826T233527Z
UID:623-1759276800-1759708799@flat7.com
SUMMARY:OOT
DESCRIPTION:
URL:https://flat7.com/event/oot/
LOCATION:AZ
END:VEVENT
BEGIN:VEVENT
DTSTART;TZID=America/Phoenix:20250920T180000
DTEND;TZID=America/Phoenix:20250920T200000
DTSTAMP:20260423T154112
CREATED:20250826T214636Z
LAST-MODIFIED:20250918T185439Z
UID:538-1758391200-1758398400@flat7.com
SUMMARY:The Dusty Ramblers Project
DESCRIPTION:
URL:https://flat7.com/event/the-dusty-ramblers-project-details-soon/
LOCATION:Andaz Scottsdale Resort & Bungalows\, 6114 N Scottsdale Rd\, Scottsdale\, AZ\, 85253\, United States
END:VEVENT
BEGIN:VEVENT
DTSTART;TZID=America/Phoenix:20250917T190000
DTEND;TZID=America/Phoenix:20250917T210000
DTSTAMP:20260423T154112
CREATED:20250810T230106Z
LAST-MODIFIED:20250810T230106Z
UID:510-1758135600-1758142800@flat7.com
SUMMARY:Pam & Chad Trio
DESCRIPTION:
URL:https://flat7.com/event/pam-chad-trio/
LOCATION:Black Mountain Cafe & Lounge\, 7211 E Ho Rd\, Carefree\, AZ\, 85377\, United States
END:VEVENT
BEGIN:VEVENT
DTSTART;TZID=America/Phoenix:20250913T170000
DTEND;TZID=America/Phoenix:20250913T210000
DTSTAMP:20260423T154112
CREATED:20250803T201539Z
LAST-MODIFIED:20250803T201539Z
UID:471-1757782800-1757797200@flat7.com
SUMMARY:Pam Loe & Hipshot
DESCRIPTION:
URL:https://flat7.com/event/pam-loe-hipshot-11/
LOCATION:Rancho Bar 7\, 111 E Wickenburg Way\, Wickenburg\, AZ\, 85390\, United States
END:VEVENT
BEGIN:VEVENT
DTSTART;TZID=America/Phoenix:20250912T170000
DTEND;TZID=America/Phoenix:20250912T210000
DTSTAMP:20260423T154112
CREATED:20250803T201453Z
LAST-MODIFIED:20250803T201453Z
UID:467-1757696400-1757710800@flat7.com
SUMMARY:Pam Loe & Hipshot
DESCRIPTION:
URL:https://flat7.com/event/pam-loe-hipshot-10/
LOCATION:Rancho Bar 7\, 111 E Wickenburg Way\, Wickenburg\, AZ\, 85390\, United States
END:VEVENT
BEGIN:VEVENT
DTSTART;TZID=America/Phoenix:20250909T180000
DTEND;TZID=America/Phoenix:20250909T210000
DTSTAMP:20260423T154112
CREATED:20250823T212008Z
LAST-MODIFIED:20250823T212008Z
UID:534-1757440800-1757451600@flat7.com
SUMMARY:Rehearsal
DESCRIPTION:
URL:https://flat7.com/event/rehearsal/
LOCATION:Silver Star Theater\, 5247 E. Brown Rd\, Mesa\, AZ\, 85205\, United States
END:VEVENT
BEGIN:VEVENT
DTSTART;TZID=America/Phoenix:20250903T180000
DTEND;TZID=America/Phoenix:20250903T210000
DTSTAMP:20260423T154112
CREATED:20250823T211826Z
LAST-MODIFIED:20250826T234810Z
UID:529-1756922400-1756933200@flat7.com
SUMMARY:Campbell's Band
DESCRIPTION:
URL:https://flat7.com/event/tba/
LOCATION:Sun Lakes Palo Verde Country Club\, 10801 E San Tan Blvd\, Sun Lakes\, AZ\, 85248\, United States
END:VEVENT
BEGIN:VEVENT
DTSTART;TZID=America/Phoenix:20250830T194500
DTEND;TZID=America/Phoenix:20250830T210000
DTSTAMP:20260423T154112
CREATED:20250823T211502Z
LAST-MODIFIED:20250823T211502Z
UID:525-1756583100-1756587600@flat7.com
SUMMARY:The Dusty Ramblers Project - Private show
DESCRIPTION:
URL:https://flat7.com/event/the-dusty-ramblers-project-private-show-2/
LOCATION:AZ
END:VEVENT
BEGIN:VEVENT
DTSTART;TZID=America/Phoenix:20250827T190000
DTEND;TZID=America/Phoenix:20250827T210000
DTSTAMP:20260423T154112
CREATED:20250823T211344Z
LAST-MODIFIED:20250823T211344Z
UID:521-1756321200-1756328400@flat7.com
SUMMARY:Pam & Chad Trio
DESCRIPTION:
URL:https://flat7.com/event/pam-chad-trio-2/
LOCATION:Black Mountain Cafe & Lounge\, 7211 E Ho Rd\, Carefree\, AZ\, 85377\, United States
END:VEVENT
BEGIN:VEVENT
DTSTART;TZID=America/Phoenix:20250823T160000
DTEND;TZID=America/Phoenix:20250823T180000
DTSTAMP:20260423T154112
CREATED:20250810T225835Z
LAST-MODIFIED:20250810T225835Z
UID:506-1755964800-1755972000@flat7.com
SUMMARY:The Dusty Ramblers Project
DESCRIPTION:
URL:https://flat7.com/event/the-dusty-ramblers-project-8/
LOCATION:Fate Brewing Co\, 1312 N. Scottsdale Rd\, Scottsdale\, AZ\, 85251\, United States
END:VEVENT
BEGIN:VEVENT
DTSTART;TZID=America/Phoenix:20250822T180000
DTEND;TZID=America/Phoenix:20250822T220000
DTSTAMP:20260423T154112
CREATED:20250529T180616Z
LAST-MODIFIED:20250701T010717Z
UID:376-1755885600-1755900000@flat7.com
SUMMARY:Tyler Gummersol
DESCRIPTION:
URL:https://flat7.com/event/tyler-gummersol/
LOCATION:Mortimer Farms\, 12907 E. State Route 169\, Dewey\, AZ\, 86237\, United States
END:VEVENT
BEGIN:VEVENT
DTSTART;TZID=America/Phoenix:20250816T190000
DTEND;TZID=America/Phoenix:20250816T220000
DTSTAMP:20260423T154112
CREATED:20250720T221528Z
LAST-MODIFIED:20250720T221528Z
UID:457-1755370800-1755381600@flat7.com
SUMMARY:Pam Loe & Hipshot
DESCRIPTION:
URL:https://flat7.com/event/pam-loe-hipshot-9/
LOCATION:Arizona Italian Social Club\, 7509 North 12th Street\, Phoenix\, AZ\, 85020\, United States
END:VEVENT
BEGIN:VEVENT
DTSTART;TZID=America/Phoenix:20250803T180000
DTEND;TZID=America/Phoenix:20250803T210000
DTSTAMP:20260423T154112
CREATED:20250715T001741Z
LAST-MODIFIED:20250715T001741Z
UID:446-1754244000-1754254800@flat7.com
SUMMARY:The Dusty Ramblers Project
DESCRIPTION:
URL:https://flat7.com/event/the-dusty-ramblers-project-6/
LOCATION:The Back Door\, 7320 Scottsdale Mall\, Scottsdale\, AZ\, 85251\, United States
END:VEVENT
BEGIN:VEVENT
DTSTART;TZID=America/Phoenix:20250720T180000
DTEND;TZID=America/Phoenix:20250720T210000
DTSTAMP:20260423T154112
CREATED:20250701T190517Z
LAST-MODIFIED:20250701T190517Z
UID:435-1753034400-1753045200@flat7.com
SUMMARY:The Dusty Ramblers Project
DESCRIPTION:
URL:https://flat7.com/event/the-dusty-ramblers-project-5/
LOCATION:The Back Door\, 7320 Scottsdale Mall\, Scottsdale\, AZ\, 85251\, United States
END:VEVENT
BEGIN:VEVENT
DTSTART;TZID=America/Phoenix:20250718T200000
DTEND;TZID=America/Phoenix:20250718T220000
DTSTAMP:20260423T154112
CREATED:20250701T010520Z
LAST-MODIFIED:20250701T010520Z
UID:418-1752868800-1752876000@flat7.com
SUMMARY:Dina Preston Band - Private Show
DESCRIPTION:
URL:https://flat7.com/event/dina-preston-band-private-show-2/
LOCATION:AZ
END:VEVENT
BEGIN:VEVENT
DTSTART;TZID=America/Phoenix:20250716T190000
DTEND;TZID=America/Phoenix:20250716T210000
DTSTAMP:20260423T154112
CREATED:20250715T001558Z
LAST-MODIFIED:20250715T001558Z
UID:441-1752692400-1752699600@flat7.com
SUMMARY:Chad Watson & Pam Loe
DESCRIPTION:
URL:https://flat7.com/event/chad-watson-pam-loe/
LOCATION:Black Mountain Cafe & Lounge\, 7211 E Ho Rd\, Carefree\, AZ\, 85377\, United States
END:VEVENT
BEGIN:VEVENT
DTSTART;TZID=America/Phoenix:20250713T180000
DTEND;TZID=America/Phoenix:20250713T210000
DTSTAMP:20260423T154112
CREATED:20250701T190424Z
LAST-MODIFIED:20250701T190424Z
UID:431-1752429600-1752440400@flat7.com
SUMMARY:The Dusty Ramblers Project
DESCRIPTION:
URL:https://flat7.com/event/the-dusty-ramblers-project-4/
LOCATION:The Back Door\, 7320 Scottsdale Mall\, Scottsdale\, AZ\, 85251\, United States
END:VEVENT
BEGIN:VEVENT
DTSTART;TZID=America/Phoenix:20250712T170000
DTEND;TZID=America/Phoenix:20250712T210000
DTSTAMP:20260423T154112
CREATED:20250617T173201Z
LAST-MODIFIED:20250617T173201Z
UID:401-1752339600-1752354000@flat7.com
SUMMARY:Pam Loe & Hipshot
DESCRIPTION:
URL:https://flat7.com/event/pam-loe-hipshot-8/
LOCATION:Rancho Bar 7\, 111 E Wickenburg Way\, Wickenburg\, AZ\, 85390\, United States
END:VEVENT
BEGIN:VEVENT
DTSTART;TZID=America/Phoenix:20250711T170000
DTEND;TZID=America/Phoenix:20250711T210000
DTSTAMP:20260423T154112
CREATED:20250617T173107Z
LAST-MODIFIED:20250617T173107Z
UID:397-1752253200-1752267600@flat7.com
SUMMARY:Pam Loe & Hipshot
DESCRIPTION:
URL:https://flat7.com/event/pam-loe-hipshot-7/
LOCATION:Rancho Bar 7\, 111 E Wickenburg Way\, Wickenburg\, AZ\, 85390\, United States
END:VEVENT
BEGIN:VEVENT
DTSTART;TZID=America/Phoenix:20250706T180000
DTEND;TZID=America/Phoenix:20250706T210000
DTSTAMP:20260423T154112
CREATED:20250701T190330Z
LAST-MODIFIED:20250701T190330Z
UID:427-1751824800-1751835600@flat7.com
SUMMARY:The Dusty Ramblers Project
DESCRIPTION:
URL:https://flat7.com/event/the-dusty-ramblers-project-3/
LOCATION:The Back Door\, 7320 Scottsdale Mall\, Scottsdale\, AZ\, 85251\, United States
END:VEVENT
BEGIN:VEVENT
DTSTART;TZID=America/Phoenix:20250704T180000
DTEND;TZID=America/Phoenix:20250704T210000
DTSTAMP:20260423T154112
CREATED:20250701T183909Z
LAST-MODIFIED:20250701T183909Z
UID:423-1751652000-1751662800@flat7.com
SUMMARY:The Dusty Ramblers Project
DESCRIPTION:
URL:https://flat7.com/event/the-dusty-ramblers-project-2/
LOCATION:Andaz Scottsdale Resort & Bungalows\, 6114 N Scottsdale Rd\, Scottsdale\, AZ\, 85253\, United States
END:VEVENT
BEGIN:VEVENT
DTSTART;TZID=America/Phoenix:20250622T180000
DTEND;TZID=America/Phoenix:20250622T210000
DTSTAMP:20260423T154112
CREATED:20250513T205218Z
LAST-MODIFIED:20250513T205218Z
UID:316-1750615200-1750626000@flat7.com
SUMMARY:Dusty Ramblers Project
DESCRIPTION:
URL:https://flat7.com/event/dusty-ramblers-project-5/
LOCATION:The Back Door\, 7320 Scottsdale Mall\, Scottsdale\, AZ\, 85251\, United States
END:VEVENT
BEGIN:VEVENT
DTSTART;TZID=America/Phoenix:20250621T193000
DTEND;TZID=America/Phoenix:20250621T223000
DTSTAMP:20260423T154112
CREATED:20250506T232123Z
LAST-MODIFIED:20250506T232123Z
UID:251-1750534200-1750545000@flat7.com
SUMMARY:Pam Loe & Hipshot
DESCRIPTION:
URL:https://flat7.com/event/pam-loe-hipshot-4/
LOCATION:Arizona Italian Social Club\, 7509 North 12th Street\, Phoenix\, AZ\, 85020\, United States
END:VEVENT
BEGIN:VEVENT
DTSTART;TZID=America/Phoenix:20250620T180000
DTEND;TZID=America/Phoenix:20250620T210000
DTSTAMP:20260423T154112
CREATED:20250529T181159Z
LAST-MODIFIED:20250602T212814Z
UID:380-1750442400-1750453200@flat7.com
SUMMARY:Dusty Ramblers Project
DESCRIPTION:
URL:https://flat7.com/event/the-dusty-ramblers-project/
LOCATION:Andaz Scottsdale Resort & Bungalows\, 6114 N Scottsdale Rd\, Scottsdale\, AZ\, 85253\, United States
END:VEVENT
BEGIN:VEVENT
DTSTART;TZID=America/Phoenix:20250618T190000
DTEND;TZID=America/Phoenix:20250618T210000
DTSTAMP:20260423T154112
CREATED:20250516T194924Z
LAST-MODIFIED:20250617T180447Z
UID:354-1750273200-1750280400@flat7.com
SUMMARY:Pam Loe & Chad Watson
DESCRIPTION:
URL:https://flat7.com/event/pam-loe-chad-watson/
LOCATION:Black Mountain Cafe & Lounge\, 7211 E Ho Rd\, Carefree\, AZ\, 85377\, United States
END:VEVENT
END:VCALENDAR