BEGIN:VCALENDAR
VERSION:2.0
PRODID:-//Ken Skaggs Performances - ECPv6.15.20//NONSGML v1.0//EN
CALSCALE:GREGORIAN
METHOD:PUBLISH
X-WR-CALNAME:Ken Skaggs Performances
X-ORIGINAL-URL:https://flat7.com
X-WR-CALDESC:Events for Ken Skaggs Performances
REFRESH-INTERVAL;VALUE=DURATION:PT1H
X-Robots-Tag:noindex
X-PUBLISHED-TTL:PT1H
BEGIN:VTIMEZONE
TZID:America/Phoenix
BEGIN:STANDARD
TZOFFSETFROM:-0700
TZOFFSETTO:-0700
TZNAME:MST
DTSTART:20250101T000000
END:STANDARD
END:VTIMEZONE
BEGIN:VEVENT
DTSTART;TZID=America/Phoenix:20260329T130000
DTEND;TZID=America/Phoenix:20260329T160000
DTSTAMP:20260423T172550
CREATED:20260216T000042Z
LAST-MODIFIED:20260216T000042Z
UID:879-1774789200-1774800000@flat7.com
SUMMARY:Dusty Ramblers Project
DESCRIPTION:
URL:https://flat7.com/event/dusty-ramblers-project-11/
LOCATION:Pour Decisions Patio & Kitchen\, 4209 N Craftsman Ct\, Scottsdale\, AZ\, 85251\, United States
END:VEVENT
BEGIN:VEVENT
DTSTART;TZID=America/Phoenix:20260403T140000
DTEND;TZID=America/Phoenix:20260403T170000
DTSTAMP:20260423T172550
CREATED:20260319T211220Z
LAST-MODIFIED:20260319T211220Z
UID:898-1775224800-1775235600@flat7.com
SUMMARY:Trio Rio
DESCRIPTION:
URL:https://flat7.com/event/trio-rio-4/
LOCATION:Coach House\, 7011 E Indian School Rd\, Scottsdale\, AZ\, 85251\, United States
END:VEVENT
BEGIN:VEVENT
DTSTART;TZID=America/Phoenix:20260404T190000
DTEND;TZID=America/Phoenix:20260404T210000
DTSTAMP:20260423T172550
CREATED:20251229T160039Z
LAST-MODIFIED:20260404T145422Z
UID:762-1775329200-1775336400@flat7.com
SUMMARY:The Dusty Ramblers Project
DESCRIPTION:
URL:https://flat7.com/event/the-dusty-ramblers-project-11/
LOCATION:Cattle Track Arts & Preservation\, 6105 N Cattletrack\, Scottsdale\, AZ\, 85250\, United States
END:VEVENT
BEGIN:VEVENT
DTSTART;TZID=America/Phoenix:20260405T140000
DTEND;TZID=America/Phoenix:20260405T170000
DTSTAMP:20260423T172550
CREATED:20260404T145533Z
LAST-MODIFIED:20260404T145533Z
UID:903-1775397600-1775408400@flat7.com
SUMMARY:The Dusty Ramblers Project
DESCRIPTION:
URL:https://flat7.com/event/the-dusty-ramblers-project-14/
LOCATION:Pour Decisions Patio & Kitchen\, 4209 N Craftsman Ct\, Scottsdale\, AZ\, 85251\, United States
END:VEVENT
BEGIN:VEVENT
DTSTART;TZID=America/Phoenix:20260410T180000
DTEND;TZID=America/Phoenix:20260410T220000
DTSTAMP:20260423T172550
CREATED:20251229T160158Z
LAST-MODIFIED:20251229T160158Z
UID:766-1775844000-1775858400@flat7.com
SUMMARY:Pam Loe & Hipshot
DESCRIPTION:
URL:https://flat7.com/event/pam-loe-hipshot-23/
LOCATION:Rancho Bar 7\, 111 E Wickenburg Way\, Wickenburg\, AZ\, 85390\, United States
END:VEVENT
BEGIN:VEVENT
DTSTART;TZID=America/Phoenix:20260411T180000
DTEND;TZID=America/Phoenix:20260411T220000
DTSTAMP:20260423T172550
CREATED:20260106T160227Z
LAST-MODIFIED:20260106T160227Z
UID:828-1775930400-1775944800@flat7.com
SUMMARY:Pam Loe & Hipshot
DESCRIPTION:
URL:https://flat7.com/event/pam-loe-hipshot-34/
LOCATION:Rancho Bar 7\, 111 E Wickenburg Way\, Wickenburg\, AZ\, 85390\, United States
END:VEVENT
BEGIN:VEVENT
DTSTART;TZID=America/Phoenix:20260417T180000
DTEND;TZID=America/Phoenix:20260417T193000
DTSTAMP:20260423T172550
CREATED:20250826T222825Z
LAST-MODIFIED:20250826T234217Z
UID:594-1776448800-1776454200@flat7.com
SUMMARY:Dina Preston Band
DESCRIPTION:
URL:https://flat7.com/event/dina-preston-band/
LOCATION:Kerr Cultural Center\, 6110 N Scottsdale Road\, Scottsdale\, AZ\, 85253\, United States
END:VEVENT
BEGIN:VEVENT
DTSTART;TZID=America/Phoenix:20260419T183000
DTEND;TZID=America/Phoenix:20260419T220000
DTSTAMP:20260423T172550
CREATED:20251229T160304Z
LAST-MODIFIED:20251229T160304Z
UID:770-1776623400-1776636000@flat7.com
SUMMARY:Pam Loe & Hipshot
DESCRIPTION:
URL:https://flat7.com/event/pam-loe-hipshot-24/
LOCATION:J & T’s Copper Penny\, 10765 W Peoria Ave\, Sun City\, AZ\, 85351\, United States
END:VEVENT
BEGIN:VEVENT
DTSTART;TZID=America/Phoenix:20260430T200000
DTEND;TZID=America/Phoenix:20260430T210000
DTSTAMP:20260423T172550
CREATED:20260415T001754Z
LAST-MODIFIED:20260415T001754Z
UID:912-1777579200-1777582800@flat7.com
SUMMARY:The Perusers - Album Release
DESCRIPTION:
URL:https://flat7.com/event/the-perusers-album-release/
LOCATION:The Rhythm Room\, 1019 E Indian School Rd\, Phoenix\, AZ\, 85014\, United States
END:VEVENT
BEGIN:VEVENT
DTSTART;TZID=America/Phoenix:20260501T190000
DTEND;TZID=America/Phoenix:20260501T220000
DTSTAMP:20260423T172550
CREATED:20260421T203817Z
LAST-MODIFIED:20260421T203817Z
UID:917-1777662000-1777672800@flat7.com
SUMMARY:Pam Loe & Hipshot
DESCRIPTION:
URL:https://flat7.com/event/pam-loe-hipshot-22/
LOCATION:Arizona Italian Social Club\, 7509 North 12th Street\, Phoenix\, AZ\, 85020\, United States
END:VEVENT
BEGIN:VEVENT
DTSTART;TZID=America/Phoenix:20260503T150000
DTEND;TZID=America/Phoenix:20260503T180000
DTSTAMP:20260423T172550
CREATED:20260421T204209Z
LAST-MODIFIED:20260421T204209Z
UID:921-1777820400-1777831200@flat7.com
SUMMARY:Pat James - Marty Robbins Tribute
DESCRIPTION:
URL:https://flat7.com/event/pat-james-marty-robbins-tribute/
LOCATION:Westside Blues and Jazz\, 17045 N. 59th Ave\, Glendale\, AZ\, 85308\, United States
END:VEVENT
BEGIN:VEVENT
DTSTART;TZID=America/Phoenix:20260508T203000
DTEND;TZID=America/Phoenix:20260509T003000
DTSTAMP:20260423T172550
CREATED:20250826T232852Z
LAST-MODIFIED:20260104T214227Z
UID:613-1778272200-1778286600@flat7.com
SUMMARY:Rick Lenzi & Tenneessee Whiskey
DESCRIPTION:
URL:https://flat7.com/event/rick-lenzi-tenneessee-whiskey-4/
LOCATION:The Stillery Goodyear\, 1971 N Globe Dr\, Goodyear\, AZ\, 85395\, United States
END:VEVENT
BEGIN:VEVENT
DTSTART;TZID=America/Phoenix:20260509T203000
DTEND;TZID=America/Phoenix:20260510T003000
DTSTAMP:20260423T172550
CREATED:20250826T232954Z
LAST-MODIFIED:20260104T213535Z
UID:618-1778358600-1778373000@flat7.com
SUMMARY:Rick Lenzi & Tenneessee Whiskey
DESCRIPTION:
URL:https://flat7.com/event/rick-lenzi-tenneessee-whiskey-5/
LOCATION:The Stillery Goodyear\, 1971 N Globe Dr\, Goodyear\, AZ\, 85395\, United States
END:VEVENT
BEGIN:VEVENT
DTSTART;TZID=America/Phoenix:20260516T190000
DTEND;TZID=America/Phoenix:20260516T210000
DTSTAMP:20260423T172550
CREATED:20260421T204412Z
LAST-MODIFIED:20260421T204412Z
UID:926-1778958000-1778965200@flat7.com
SUMMARY:Dusty Ramblers Project
DESCRIPTION:
URL:https://flat7.com/event/dusty-ramblers-project-12/
LOCATION:Cattle Track Arts & Preservation\, 6105 N Cattletrack\, Scottsdale\, AZ\, 85250\, United States
END:VEVENT
BEGIN:VEVENT
DTSTART;TZID=America/Phoenix:20260517T183000
DTEND;TZID=America/Phoenix:20260517T220000
DTSTAMP:20260423T172550
CREATED:20251229T160641Z
LAST-MODIFIED:20251229T160641Z
UID:778-1779042600-1779055200@flat7.com
SUMMARY:Pam Loe & Hipshot
DESCRIPTION:
URL:https://flat7.com/event/pam-loe-hipshot-26/
LOCATION:J & T’s Copper Penny\, 10765 W Peoria Ave\, Sun City\, AZ\, 85351\, United States
END:VEVENT
BEGIN:VEVENT
DTSTART;TZID=America/Phoenix:20260526T200000
DTEND;TZID=America/Phoenix:20260530T000000
DTSTAMP:20260423T172550
CREATED:20260310T160528Z
LAST-MODIFIED:20260310T160528Z
UID:891-1779825600-1780099200@flat7.com
SUMMARY:Mark Lucas & The Rhythm Cats
DESCRIPTION:
URL:https://flat7.com/event/mark-lucas-the-rhythm-cats/
LOCATION:Hon-Dah Resort Casino\, 777 Highway 260\, Pinetop\, AZ\, 85935\, United States
END:VEVENT
BEGIN:VEVENT
DTSTART;TZID=America/Phoenix:20260816T183000
DTEND;TZID=America/Phoenix:20260816T220000
DTSTAMP:20260423T172550
CREATED:20251229T160905Z
LAST-MODIFIED:20251229T160905Z
UID:782-1786905000-1786917600@flat7.com
SUMMARY:Pam Loe & Hipshot
DESCRIPTION:
URL:https://flat7.com/event/pam-loe-hipshot-27/
LOCATION:J & T’s Copper Penny\, 10765 W Peoria Ave\, Sun City\, AZ\, 85351\, United States
END:VEVENT
BEGIN:VEVENT
DTSTART;TZID=America/Phoenix:20260911T180000
DTEND;TZID=America/Phoenix:20260911T220000
DTSTAMP:20260423T172550
CREATED:20251229T161003Z
LAST-MODIFIED:20251229T161003Z
UID:786-1789149600-1789164000@flat7.com
SUMMARY:Pam Loe & Hipshot
DESCRIPTION:
URL:https://flat7.com/event/pam-loe-hipshot-28/
LOCATION:Rancho Bar 7\, 111 E Wickenburg Way\, Wickenburg\, AZ\, 85390\, United States
END:VEVENT
BEGIN:VEVENT
DTSTART;TZID=America/Phoenix:20260918T203000
DTEND;TZID=America/Phoenix:20260919T003000
DTSTAMP:20260423T172550
CREATED:20250826T234509Z
LAST-MODIFIED:20260104T213619Z
UID:631-1789763400-1789777800@flat7.com
SUMMARY:Rick Lenzi & Tenneessee Whiskey
DESCRIPTION:
URL:https://flat7.com/event/rick-lenzi-tenneessee-whiskey-6/
LOCATION:The Stillery – Chandler\, 130 S Arizona Avenue\, Chandler\, AZ\, 85225\, United States
END:VEVENT
BEGIN:VEVENT
DTSTART;TZID=America/Phoenix:20260919T203000
DTEND;TZID=America/Phoenix:20260920T003000
DTSTAMP:20260423T172550
CREATED:20250826T234611Z
LAST-MODIFIED:20260104T214649Z
UID:635-1789849800-1789864200@flat7.com
SUMMARY:Rick Lenzi & Tenneessee Whiskey
DESCRIPTION:
URL:https://flat7.com/event/rick-lenzi-tenneessee-whiskey-7/
LOCATION:The Stillery – Chandler\, 130 S Arizona Avenue\, Chandler\, AZ\, 85225\, United States
END:VEVENT
BEGIN:VEVENT
DTSTART;TZID=America/Phoenix:20260920T183000
DTEND;TZID=America/Phoenix:20260920T220000
DTSTAMP:20260423T172550
CREATED:20251229T161230Z
LAST-MODIFIED:20251229T161230Z
UID:790-1789929000-1789941600@flat7.com
SUMMARY:Pam Loe & Hipshot
DESCRIPTION:
URL:https://flat7.com/event/pam-loe-hipshot-29/
LOCATION:J & T’s Copper Penny\, 10765 W Peoria Ave\, Sun City\, AZ\, 85351\, United States
END:VEVENT
BEGIN:VEVENT
DTSTART;TZID=America/Phoenix:20261009T180000
DTEND;TZID=America/Phoenix:20261009T220000
DTSTAMP:20260423T172550
CREATED:20251229T161342Z
LAST-MODIFIED:20251229T161342Z
UID:794-1791568800-1791583200@flat7.com
SUMMARY:Pam Loe & Hipshot
DESCRIPTION:
URL:https://flat7.com/event/pam-loe-hipshot-30/
LOCATION:Rancho Bar 7\, 111 E Wickenburg Way\, Wickenburg\, AZ\, 85390\, United States
END:VEVENT
BEGIN:VEVENT
DTSTART;TZID=America/Phoenix:20261014T180000
DTEND;TZID=America/Phoenix:20261014T210000
DTSTAMP:20260423T172550
CREATED:20260404T145842Z
LAST-MODIFIED:20260404T145842Z
UID:907-1792000800-1792011600@flat7.com
SUMMARY:Dina Preston Band - Private Show
DESCRIPTION:
URL:https://flat7.com/event/dina-preston-band-private-show-3/
END:VEVENT
BEGIN:VEVENT
DTSTART;TZID=America/Phoenix:20261113T180000
DTEND;TZID=America/Phoenix:20261113T220000
DTSTAMP:20260423T172550
CREATED:20251229T161505Z
LAST-MODIFIED:20251229T161505Z
UID:798-1794592800-1794607200@flat7.com
SUMMARY:Pam Loe & Hipshot
DESCRIPTION:
URL:https://flat7.com/event/pam-loe-hipshot-31/
LOCATION:Rancho Bar 7\, 111 E Wickenburg Way\, Wickenburg\, AZ\, 85390\, United States
END:VEVENT
BEGIN:VEVENT
DTSTART;TZID=America/Phoenix:20261115T183000
DTEND;TZID=America/Phoenix:20261115T220000
DTSTAMP:20260423T172550
CREATED:20251229T161555Z
LAST-MODIFIED:20251229T161555Z
UID:802-1794767400-1794780000@flat7.com
SUMMARY:Pam Loe & Hipshot
DESCRIPTION:
URL:https://flat7.com/event/pam-loe-hipshot-32/
LOCATION:J & T’s Copper Penny\, 10765 W Peoria Ave\, Sun City\, AZ\, 85351\, United States
END:VEVENT
BEGIN:VEVENT
DTSTART;TZID=America/Phoenix:20261218T180000
DTEND;TZID=America/Phoenix:20261218T220000
DTSTAMP:20260423T172550
CREATED:20251229T161701Z
LAST-MODIFIED:20251229T161701Z
UID:806-1797616800-1797631200@flat7.com
SUMMARY:Pam Loe & Hipshot
DESCRIPTION:
URL:https://flat7.com/event/pam-loe-hipshot-33/
LOCATION:Rancho Bar 7\, 111 E Wickenburg Way\, Wickenburg\, AZ\, 85390\, United States
END:VEVENT
END:VCALENDAR