BEGIN:VCALENDAR
VERSION:2.0
PRODID:-//Ken Skaggs Performances - ECPv6.15.20//NONSGML v1.0//EN
CALSCALE:GREGORIAN
METHOD:PUBLISH
X-WR-CALNAME:Ken Skaggs Performances
X-ORIGINAL-URL:https://flat7.com
X-WR-CALDESC:Events for Ken Skaggs Performances
REFRESH-INTERVAL;VALUE=DURATION:PT1H
X-Robots-Tag:noindex
X-PUBLISHED-TTL:PT1H
BEGIN:VTIMEZONE
TZID:America/Phoenix
BEGIN:STANDARD
TZOFFSETFROM:-0700
TZOFFSETTO:-0700
TZNAME:MST
DTSTART:20250101T000000
END:STANDARD
END:VTIMEZONE
BEGIN:VEVENT
DTSTART;TZID=America/Phoenix:20260102T203000
DTEND;TZID=America/Phoenix:20260103T003000
DTSTAMP:20260423T154640
CREATED:20251229T154923Z
LAST-MODIFIED:20251229T154923Z
UID:733-1767385800-1767400200@flat7.com
SUMMARY:Christian Warren
DESCRIPTION:
URL:https://flat7.com/event/christian-warren/
LOCATION:Brookside II\, 15170 W. Bell Rd\, Suite 115\, Surprise\, AZ\, 85374\, United States
END:VEVENT
BEGIN:VEVENT
DTSTART;TZID=America/Phoenix:20260103T203000
DTEND;TZID=America/Phoenix:20260104T003000
DTSTAMP:20260423T154640
CREATED:20251229T155014Z
LAST-MODIFIED:20251229T155014Z
UID:738-1767472200-1767486600@flat7.com
SUMMARY:Christian Warren
DESCRIPTION:
URL:https://flat7.com/event/christian-warren-2/
LOCATION:Brookside II\, 15170 W. Bell Rd\, Suite 115\, Surprise\, AZ\, 85374\, United States
END:VEVENT
BEGIN:VEVENT
DTSTART;TZID=America/Phoenix:20260109T180000
DTEND;TZID=America/Phoenix:20260109T220000
DTSTAMP:20260423T154640
CREATED:20251229T155225Z
LAST-MODIFIED:20251229T155225Z
UID:742-1767981600-1767996000@flat7.com
SUMMARY:Pam Loe & Hipshot
DESCRIPTION:
URL:https://flat7.com/event/pam-loe-hipshot-16/
LOCATION:Rancho Bar 7\, 111 E Wickenburg Way\, Wickenburg\, AZ\, 85390\, United States
END:VEVENT
BEGIN:VEVENT
DTSTART;TZID=America/Phoenix:20260113T180000
DTEND;TZID=America/Phoenix:20260113T200000
DTSTAMP:20260423T154640
CREATED:20251008T200121Z
LAST-MODIFIED:20251008T200121Z
UID:673-1768327200-1768334400@flat7.com
SUMMARY:Mark Lucas Band
DESCRIPTION:
URL:https://flat7.com/event/mark-lucas-band-2/
LOCATION:Apache Wells Country Club\, 5601 E Hermosa Vista Drive\, Mesa\, AZ\, 85215\, United States
END:VEVENT
BEGIN:VEVENT
DTSTART;TZID=America/Phoenix:20260114T180000
DTEND;TZID=America/Phoenix:20260114T210000
DTSTAMP:20260423T154640
CREATED:20260107T172314Z
LAST-MODIFIED:20260107T172314Z
UID:832-1768413600-1768424400@flat7.com
SUMMARY:The Dusty Ramblers Project
DESCRIPTION:
URL:https://flat7.com/event/the-dusty-ramblers-project-13/
LOCATION:Belle’s Nashville Kitchen\, 7212 E Main St\, Scottsdale\, AZ\, 85251\, United States
END:VEVENT
BEGIN:VEVENT
DTSTART;TZID=America/Phoenix:20260117T070000
DTEND;TZID=America/Phoenix:20260117T210000
DTSTAMP:20260423T154640
CREATED:20250826T221618Z
LAST-MODIFIED:20250826T221618Z
UID:561-1768633200-1768683600@flat7.com
SUMMARY:Silver Star Band
DESCRIPTION:
URL:https://flat7.com/event/silver-star-band/
LOCATION:Silver Star Theater\, 5247 E. Brown Rd\, Mesa\, AZ\, 85205\, United States
END:VEVENT
BEGIN:VEVENT
DTSTART;TZID=America/Phoenix:20260118T183000
DTEND;TZID=America/Phoenix:20260118T220000
DTSTAMP:20260423T154640
CREATED:20251229T155423Z
LAST-MODIFIED:20251229T155423Z
UID:746-1768761000-1768773600@flat7.com
SUMMARY:Pam Loe & Hipshot
DESCRIPTION:
URL:https://flat7.com/event/pam-loe-hipshot-17/
LOCATION:J & T’s Copper Penny\, 10765 W Peoria Ave\, Sun City\, AZ\, 85351\, United States
END:VEVENT
BEGIN:VEVENT
DTSTART;TZID=America/Phoenix:20260124T140000
DTEND;TZID=America/Phoenix:20260124T170000
DTSTAMP:20260423T154640
CREATED:20260122T001511Z
LAST-MODIFIED:20260122T001511Z
UID:845-1769263200-1769274000@flat7.com
SUMMARY:MacDaddy Os
DESCRIPTION:
URL:https://flat7.com/event/macdaddy-os/
LOCATION:Handlebar J\, 7116 E Becker Lane\, Scottsdale\, AZ\, 85254\, United States
END:VEVENT
BEGIN:VEVENT
DTSTART;TZID=America/Phoenix:20260125T190000
DTEND;TZID=America/Phoenix:20260125T210000
DTSTAMP:20260423T154640
CREATED:20250826T221705Z
LAST-MODIFIED:20250826T221705Z
UID:565-1769367600-1769374800@flat7.com
SUMMARY:Silver Star Band
DESCRIPTION:
URL:https://flat7.com/event/silver-star-band-2/
LOCATION:Silver Star Theater\, 5247 E. Brown Rd\, Mesa\, AZ\, 85205\, United States
END:VEVENT
BEGIN:VEVENT
DTSTART;TZID=America/Phoenix:20260128T180000
DTEND;TZID=America/Phoenix:20260128T200000
DTSTAMP:20260423T154640
CREATED:20260120T174631Z
LAST-MODIFIED:20260120T174631Z
UID:841-1769623200-1769630400@flat7.com
SUMMARY:Pam & Chad Trio
DESCRIPTION:
URL:https://flat7.com/event/pam-chad-trio-3/
LOCATION:Black Mountain Cafe & Lounge\, 7211 E Ho Rd\, Carefree\, AZ\, 85377\, United States
END:VEVENT
BEGIN:VEVENT
DTSTART;TZID=America/Phoenix:20260130T140000
DTEND;TZID=America/Phoenix:20260130T170000
DTSTAMP:20260423T154640
CREATED:20260115T181718Z
LAST-MODIFIED:20260115T181718Z
UID:837-1769781600-1769792400@flat7.com
SUMMARY:Trio Rio
DESCRIPTION:
URL:https://flat7.com/event/trio-rio-3/
LOCATION:Coach House\, 7011 E Indian School Rd\, Scottsdale\, AZ\, 85251\, United States
END:VEVENT
BEGIN:VEVENT
DTSTART;TZID=America/Phoenix:20260131T170000
DTEND;TZID=America/Phoenix:20260131T200000
DTSTAMP:20260423T154640
CREATED:20250826T222040Z
LAST-MODIFIED:20250826T222040Z
UID:569-1769878800-1769889600@flat7.com
SUMMARY:Pam Loe & Hipshot
DESCRIPTION:
URL:https://flat7.com/event/pam-loe-hipshot-19/
LOCATION:Wickenburg Community Center\, 160 N Valentine St\, Wickenburg\, AZ\, 85390\, United States
END:VEVENT
BEGIN:VEVENT
DTSTART;TZID=America/Phoenix:20260201T160000
DTEND;TZID=America/Phoenix:20260201T200000
DTSTAMP:20260423T154640
CREATED:20260104T212539Z
LAST-MODIFIED:20260104T212539Z
UID:810-1769961600-1769976000@flat7.com
SUMMARY:Christian Warren
DESCRIPTION:
URL:https://flat7.com/event/christian-warren-3/
LOCATION:The Stillery Goodyear\, 1971 N Globe Dr\, Goodyear\, AZ\, 85395\, United States
END:VEVENT
BEGIN:VEVENT
DTSTART;TZID=America/Phoenix:20260202T180000
DTEND;TZID=America/Phoenix:20260202T200000
DTSTAMP:20260423T154640
CREATED:20251008T200254Z
LAST-MODIFIED:20251008T200254Z
UID:677-1770055200-1770062400@flat7.com
SUMMARY:Mark Lucas Band
DESCRIPTION:
URL:https://flat7.com/event/mark-lucas-band-3/
LOCATION:Apache Wells Country Club\, 5601 E Hermosa Vista Drive\, Mesa\, AZ\, 85215\, United States
END:VEVENT
BEGIN:VEVENT
DTSTART;TZID=America/Phoenix:20260207T150000
DTEND;TZID=America/Phoenix:20260207T170000
DTSTAMP:20260423T154640
CREATED:20251229T155601Z
LAST-MODIFIED:20251229T155601Z
UID:750-1770476400-1770483600@flat7.com
SUMMARY:The Dusty Ramblers Project
DESCRIPTION:
URL:https://flat7.com/event/the-dusty-ramblers-project-10/
LOCATION:Cattle Track Arts & Preservation\, 6105 N Cattletrack\, Scottsdale\, AZ\, 85250\, United States
END:VEVENT
BEGIN:VEVENT
DTSTART;TZID=America/Phoenix:20260213T190000
DTEND;TZID=America/Phoenix:20260213T210000
DTSTAMP:20260423T154640
CREATED:20250826T222147Z
LAST-MODIFIED:20250826T222147Z
UID:574-1771009200-1771016400@flat7.com
SUMMARY:Silver Star Band
DESCRIPTION:
URL:https://flat7.com/event/silver-star-band-3/
LOCATION:Silver Star Theater\, 5247 E. Brown Rd\, Mesa\, AZ\, 85205\, United States
END:VEVENT
BEGIN:VEVENT
DTSTART;TZID=America/Phoenix:20260214T203000
DTEND;TZID=America/Phoenix:20260215T003000
DTSTAMP:20260423T154640
CREATED:20250826T232345Z
LAST-MODIFIED:20260104T213808Z
UID:608-1771101000-1771115400@flat7.com
SUMMARY:Rick Lenzi & Tenneessee Whiskey
DESCRIPTION:
URL:https://flat7.com/event/rick-lenzi-tenneessee-whiskey-3/
LOCATION:Duke’s Roadhouse\, 19395 N John Wayne Pkwy\,\, Maricopa\, AZ\, 85139\, United States
END:VEVENT
BEGIN:VEVENT
DTSTART;TZID=America/Phoenix:20260215T120000
DTEND;TZID=America/Phoenix:20260215T150000
DTSTAMP:20260423T154640
CREATED:20260122T001716Z
LAST-MODIFIED:20260122T001716Z
UID:850-1771156800-1771167600@flat7.com
SUMMARY:Dusty Ramblers Project - Private gig
DESCRIPTION:
URL:https://flat7.com/event/dusty-ramblers-project-private-gig/
LOCATION:AZ
END:VEVENT
BEGIN:VEVENT
DTSTART;TZID=America/Phoenix:20260218T180000
DTEND;TZID=America/Phoenix:20260218T200000
DTSTAMP:20260423T154640
CREATED:20260215T235218Z
LAST-MODIFIED:20260215T235218Z
UID:855-1771437600-1771444800@flat7.com
SUMMARY:Pam & Chad Trio
DESCRIPTION:
URL:https://flat7.com/event/pam-chad-trio-4/
LOCATION:Black Mountain Cafe & Lounge\, 7211 E Ho Rd\, Carefree\, AZ\, 85377\, United States
END:VEVENT
BEGIN:VEVENT
DTSTART;TZID=America/Phoenix:20260220T150000
DTEND;TZID=America/Phoenix:20260220T190000
DTSTAMP:20260423T154640
CREATED:20250826T222318Z
LAST-MODIFIED:20260216T000755Z
UID:578-1771599600-1771614000@flat7.com
SUMMARY:Straight Country
DESCRIPTION:
URL:https://flat7.com/event/straight-country/
LOCATION:Venture Out at Mesa\, 5001 E Main Street\, Mesa\, AZ\, 85205\, United States
END:VEVENT
BEGIN:VEVENT
DTSTART;TZID=America/Phoenix:20260221T180000
DTEND;TZID=America/Phoenix:20260221T220000
DTSTAMP:20260423T154640
CREATED:20251229T155735Z
LAST-MODIFIED:20251229T155735Z
UID:754-1771696800-1771711200@flat7.com
SUMMARY:Pam Loe & Hipshot
DESCRIPTION:
URL:https://flat7.com/event/pam-loe-hipshot-21/
LOCATION:Rancho Bar 7\, 111 E Wickenburg Way\, Wickenburg\, AZ\, 85390\, United States
END:VEVENT
BEGIN:VEVENT
DTSTART;TZID=America/Phoenix:20260222T130000
DTEND;TZID=America/Phoenix:20260222T160000
DTSTAMP:20260423T154640
CREATED:20260215T235354Z
LAST-MODIFIED:20260215T235354Z
UID:859-1771765200-1771776000@flat7.com
SUMMARY:Dusty Ramblers Project
DESCRIPTION:
URL:https://flat7.com/event/dusty-ramblers-project-6/
LOCATION:Pour Decisions Patio & Kitchen\, 4209 N Craftsman Ct\, Scottsdale\, AZ\, 85251\, United States
END:VEVENT
BEGIN:VEVENT
DTSTART;TZID=America/Phoenix:20260224T180000
DTEND;TZID=America/Phoenix:20260224T200000
DTSTAMP:20260423T154640
CREATED:20251008T200410Z
LAST-MODIFIED:20251008T200410Z
UID:681-1771956000-1771963200@flat7.com
SUMMARY:Mark Lucas Band
DESCRIPTION:
URL:https://flat7.com/event/mark-lucas-band-4/
LOCATION:Apache Wells Country Club\, 5601 E Hermosa Vista Drive\, Mesa\, AZ\, 85215\, United States
END:VEVENT
BEGIN:VEVENT
DTSTART;TZID=America/Phoenix:20260227T190000
DTEND;TZID=America/Phoenix:20260227T210000
DTSTAMP:20260423T154640
CREATED:20250826T222400Z
LAST-MODIFIED:20250826T222400Z
UID:582-1772218800-1772226000@flat7.com
SUMMARY:Silver Star Band
DESCRIPTION:
URL:https://flat7.com/event/silver-star-band-4/
LOCATION:Silver Star Theater\, 5247 E. Brown Rd\, Mesa\, AZ\, 85205\, United States
END:VEVENT
BEGIN:VEVENT
DTSTART;TZID=America/Phoenix:20260301T130000
DTEND;TZID=America/Phoenix:20260301T160000
DTSTAMP:20260423T154640
CREATED:20260215T235505Z
LAST-MODIFIED:20260215T235505Z
UID:863-1772370000-1772380800@flat7.com
SUMMARY:Dusty Ramblers Project
DESCRIPTION:
URL:https://flat7.com/event/dusty-ramblers-project-7/
LOCATION:Pour Decisions Patio & Kitchen\, 4209 N Craftsman Ct\, Scottsdale\, AZ\, 85251\, United States
END:VEVENT
BEGIN:VEVENT
DTSTART;TZID=America/Phoenix:20260306T203000
DTEND;TZID=America/Phoenix:20260307T003000
DTSTAMP:20260423T154640
CREATED:20260104T212804Z
LAST-MODIFIED:20260104T213012Z
UID:814-1772829000-1772843400@flat7.com
SUMMARY:Christian Warren
DESCRIPTION:
URL:https://flat7.com/event/christian-warren-4/
LOCATION:Brookside II\, 15170 W. Bell Rd\, Suite 115\, Surprise\, AZ\, 85374\, United States
END:VEVENT
BEGIN:VEVENT
DTSTART;TZID=America/Phoenix:20260307T203000
DTEND;TZID=America/Phoenix:20260308T003000
DTSTAMP:20260423T154640
CREATED:20260104T212850Z
LAST-MODIFIED:20260104T212850Z
UID:818-1772915400-1772929800@flat7.com
SUMMARY:Christian Warren
DESCRIPTION:
URL:https://flat7.com/event/christian-warren-5/
LOCATION:Brookside II\, 15170 W. Bell Rd\, Suite 115\, Surprise\, AZ\, 85374\, United States
END:VEVENT
BEGIN:VEVENT
DTSTART;TZID=America/Phoenix:20260308T130000
DTEND;TZID=America/Phoenix:20260308T160000
DTSTAMP:20260423T154640
CREATED:20260215T235613Z
LAST-MODIFIED:20260215T235613Z
UID:867-1772974800-1772985600@flat7.com
SUMMARY:Dusty Ramblers Project
DESCRIPTION:
URL:https://flat7.com/event/dusty-ramblers-project-8/
LOCATION:Pour Decisions Patio & Kitchen\, 4209 N Craftsman Ct\, Scottsdale\, AZ\, 85251\, United States
END:VEVENT
BEGIN:VEVENT
DTSTART;TZID=America/Phoenix:20260313T190000
DTEND;TZID=America/Phoenix:20260313T210000
DTSTAMP:20260423T154640
CREATED:20250826T222453Z
LAST-MODIFIED:20250826T222453Z
UID:586-1773428400-1773435600@flat7.com
SUMMARY:Silver Star Band
DESCRIPTION:
URL:https://flat7.com/event/silver-star-band-5/
LOCATION:Silver Star Theater\, 5247 E. Brown Rd\, Mesa\, AZ\, 85205\, United States
END:VEVENT
BEGIN:VEVENT
DTSTART;TZID=America/Phoenix:20260314T193000
DTEND;TZID=America/Phoenix:20260314T223000
DTSTAMP:20260423T154640
CREATED:20260104T213258Z
LAST-MODIFIED:20260104T213258Z
UID:822-1773516600-1773527400@flat7.com
SUMMARY:The Dusty Ramblers Project
DESCRIPTION:
URL:https://flat7.com/event/the-dusty-ramblers-project-12/
LOCATION:Belle’s Nashville Kitchen\, 7212 E Main St\, Scottsdale\, AZ\, 85251\, United States
END:VEVENT
END:VCALENDAR