BEGIN:VCALENDAR
VERSION:2.0
PRODID:-//Ken Skaggs Performances - ECPv6.15.20//NONSGML v1.0//EN
CALSCALE:GREGORIAN
METHOD:PUBLISH
X-WR-CALNAME:Ken Skaggs Performances
X-ORIGINAL-URL:https://flat7.com
X-WR-CALDESC:Events for Ken Skaggs Performances
REFRESH-INTERVAL;VALUE=DURATION:PT1H
X-Robots-Tag:noindex
X-PUBLISHED-TTL:PT1H
BEGIN:VTIMEZONE
TZID:America/Phoenix
BEGIN:STANDARD
TZOFFSETFROM:-0700
TZOFFSETTO:-0700
TZNAME:MST
DTSTART:20250101T000000
END:STANDARD
END:VTIMEZONE
BEGIN:VEVENT
DTSTART;TZID=America/Phoenix:20260417T180000
DTEND;TZID=America/Phoenix:20260417T193000
DTSTAMP:20260423T111636
CREATED:20250826T222825Z
LAST-MODIFIED:20250826T234217Z
UID:594-1776448800-1776454200@flat7.com
SUMMARY:Dina Preston Band
DESCRIPTION:
URL:https://flat7.com/event/dina-preston-band/
LOCATION:Kerr Cultural Center\, 6110 N Scottsdale Road\, Scottsdale\, AZ\, 85253\, United States
END:VEVENT
END:VCALENDAR