BEGIN:VCALENDAR
VERSION:2.0
PRODID:-//Ken Skaggs Performances - ECPv6.15.20//NONSGML v1.0//EN
CALSCALE:GREGORIAN
METHOD:PUBLISH
X-WR-CALNAME:Ken Skaggs Performances
X-ORIGINAL-URL:https://flat7.com
X-WR-CALDESC:Events for Ken Skaggs Performances
REFRESH-INTERVAL;VALUE=DURATION:PT1H
X-Robots-Tag:noindex
X-PUBLISHED-TTL:PT1H
BEGIN:VTIMEZONE
TZID:America/Phoenix
BEGIN:STANDARD
TZOFFSETFROM:-0700
TZOFFSETTO:-0700
TZNAME:MST
DTSTART:20240101T000000
END:STANDARD
END:VTIMEZONE
BEGIN:VEVENT
DTSTART;TZID=America/Phoenix:20251220T220000
DTEND;TZID=America/Phoenix:20251221T020000
DTSTAMP:20260423T172110
CREATED:20251212T000136Z
LAST-MODIFIED:20251212T000136Z
UID:726-1766268000-1766282400@flat7.com
SUMMARY:Tracy Lawrence After Show Party - Christian Warren
DESCRIPTION:
URL:https://flat7.com/event/tracy-lawrence-after-show-party-christian-warren/
LOCATION:Harrah’s Ak-Chin Casino\, 15406 Maricopa Rd\, Maricopa\, AZ\, 85139\, United States
END:VEVENT
END:VCALENDAR